BEGIN:VCALENDAR
VERSION:2.0
PRODID:-//Levitt Pavilion Dayton - ECPv6.15.20//NONSGML v1.0//EN
CALSCALE:GREGORIAN
METHOD:PUBLISH
X-ORIGINAL-URL:https://levittdayton.org
X-WR-CALDESC:Events for Levitt Pavilion Dayton
REFRESH-INTERVAL;VALUE=DURATION:PT1H
X-Robots-Tag:noindex
X-PUBLISHED-TTL:PT1H
BEGIN:VTIMEZONE
TZID:America/New_York
BEGIN:DAYLIGHT
TZOFFSETFROM:-0500
TZOFFSETTO:-0400
TZNAME:EDT
DTSTART:20240310T070000
END:DAYLIGHT
BEGIN:STANDARD
TZOFFSETFROM:-0400
TZOFFSETTO:-0500
TZNAME:EST
DTSTART:20241103T060000
END:STANDARD
BEGIN:DAYLIGHT
TZOFFSETFROM:-0500
TZOFFSETTO:-0400
TZNAME:EDT
DTSTART:20250309T070000
END:DAYLIGHT
BEGIN:STANDARD
TZOFFSETFROM:-0400
TZOFFSETTO:-0500
TZNAME:EST
DTSTART:20251102T060000
END:STANDARD
BEGIN:DAYLIGHT
TZOFFSETFROM:-0500
TZOFFSETTO:-0400
TZNAME:EDT
DTSTART:20260308T070000
END:DAYLIGHT
BEGIN:STANDARD
TZOFFSETFROM:-0400
TZOFFSETTO:-0500
TZNAME:EST
DTSTART:20261101T060000
END:STANDARD
BEGIN:DAYLIGHT
TZOFFSETFROM:-0500
TZOFFSETTO:-0400
TZNAME:EDT
DTSTART:20270314T070000
END:DAYLIGHT
BEGIN:STANDARD
TZOFFSETFROM:-0400
TZOFFSETTO:-0500
TZNAME:EST
DTSTART:20271107T060000
END:STANDARD
END:VTIMEZONE
BEGIN:VEVENT
DTSTART;TZID=America/New_York:20260312T190000
DTEND;TZID=America/New_York:20260312T213000
DTSTAMP:20260425T073541
CREATED:20260217T150023Z
LAST-MODIFIED:20260213T181313Z
UID:10000421-1773342000-1773351000@levittdayton.org
SUMMARY:Levitt UpClose Presented by CareSource
DESCRIPTION:Uncover the mystery: Three artists\, one secret location… endless memories!\nJoin us on Thursday\, March 12\, at 7pm for the next show in the Levitt UpClose concert series! Purchase a ticket for a unique concert-going experience to keep the Levitt Dayton energy going all year. We’ll give you a little information before you buy\, but here’s the fun part: we’ll let you know the exact location the day before the concert\, and you’ll find out the bands as you hear them at the show!\nTicket proceeds will support free concerts at the Levitt Pavilion Dayton next summer. \nLocation: Surprise Venue in 45402 zipcode.\n \nThe Venue is accessible with elevators. \nSeating will be available at the venue – no need to bring chairs. \nBYOB – small coolers are permitted. \nGeneral Admission Limited tickets available. Tickets – $45 \nVIP Ticket – $65 includes an exclusive pre-show experience with one of our artists. \nPresented by Caresource
URL:https://levittdayton.org/event/levitt-upclose-presented-by-caresource-2/
LOCATION:UpClose – Mystery Venue\, Dayton\, OH\, 45402\, United States
CATEGORIES:Ticketed Admission
ATTACH;FMTTYPE=image/png:https://levittdayton.org/wp-content/uploads/2025/11/UpClose-Caresource.png
END:VEVENT
BEGIN:VEVENT
DTSTART;TZID=America/New_York:20260212T190000
DTEND;TZID=America/New_York:20260212T213000
DTSTAMP:20260425T073541
CREATED:20260120T153232Z
LAST-MODIFIED:20260120T153232Z
UID:10000420-1770922800-1770931800@levittdayton.org
SUMMARY:Levitt UpClose Presented by CareSource
DESCRIPTION:Uncover the mystery: Three artists\, one secret location… endless memories!\nJoin us on Thursday\, February 12th at 7pm for the next show in the Levitt UpClose concert series! Purchase a ticket for a unique concert-going experience to keep the Levitt Dayton energy going all year. We’ll give you a little information before you buy\, but here’s the fun part: we’ll let you know the exact location the day before the concert\, and you’ll find out the bands as you hear them at the show!\nTicket proceeds will support free concerts at the Levitt Pavilion Dayton next summer. \nLocation: 45402 zipcode \nAccessible building and ground floor venue. \nSeating will be available at the venue – no need to bring chairs. \nBeverages and treats are TBD. \nLimited tickets available. Tickets – $45
URL:https://levittdayton.org/event/levitt-upclose-presented-by-caresource/
LOCATION:UpClose – Mystery Venue\, Dayton\, OH\, 45402\, United States
CATEGORIES:Ticketed Admission
ATTACH;FMTTYPE=image/png:https://levittdayton.org/wp-content/uploads/2025/11/UpClose-Caresource.png
END:VEVENT
BEGIN:VEVENT
DTSTART;TZID=America/New_York:20260114T190000
DTEND;TZID=America/New_York:20260114T213000
DTSTAMP:20260425T073541
CREATED:20251216T150045Z
LAST-MODIFIED:20251216T160135Z
UID:10000419-1768417200-1768426200@levittdayton.org
SUMMARY:Levitt UpClose Presented by CareSource
DESCRIPTION:Uncover the mystery: Three artists\, one secret location… endless memories!\nJoin us on Wednesday\, January 14th at 7pm for the next show in the Levitt UpClose concert series! Purchase a ticket for a unique concert-going experience to keep the Levitt Dayton energy going all year. We’ll give you a little information before you buy\, but here’s the fun part: we’ll let you know the exact location the day before the concert\, and you’ll find out the bands as you hear them at the show!\nTicket proceeds will support free concerts at the Levitt Pavilion Dayton next summer. \nLocation: 45402 zipcode \nAccessible building and ground floor venue. \nSeating will be available at the venue – no need to bring chairs. \nBeverages and treats will be available for purchase. No coolers will be permitted. \nLimited tickets available. Tickets – $45
URL:https://levittdayton.org/event/january-upclose-presented-by-caresource/
LOCATION:UpClose – Mystery Venue\, Dayton\, OH\, 45402\, United States
CATEGORIES:Ticketed Admission
ATTACH;FMTTYPE=image/png:https://levittdayton.org/wp-content/uploads/2025/11/UpClose-Caresource.png
END:VEVENT
BEGIN:VEVENT
DTSTART;TZID=America/New_York:20251211T190000
DTEND;TZID=America/New_York:20251211T213000
DTSTAMP:20260425T073541
CREATED:20251118T161354Z
LAST-MODIFIED:20251119T180508Z
UID:10000418-1765479600-1765488600@levittdayton.org
SUMMARY:Levitt UpClose Presented by CareSource
DESCRIPTION:  \nUncover the mystery: Three artists\, one secret location… endless memories!\nJoin us on Thursday\, December\, 11th at 7pm for the next show in the Levitt UpClose concert series! Purchase a ticket for a unique concert-going experience to keep the Levitt Dayton energy going all year. We’ll give you a little information before you buy\, but here’s the fun part: we’ll let you know the exact location the day before the concert\, and you’ll find out the bands as you hear them at the show!\nTicket proceeds will support free concerts at the Levitt Pavilion Dayton next summer. \nLocation: 45402 zipcode \nAccessible building and ground floor venue. \nSeating will be available at the venue – no need to bring chairs. \nBeverages will be available for purchase at this event. No outside coolers\, beverages\, or snacks are permitted. \nLimited tickets available. Tickets – $45 \n 
URL:https://levittdayton.org/event/december-upclose-2025/
LOCATION:UpClose – Mystery Venue\, Dayton\, OH\, 45402\, United States
CATEGORIES:Ticketed Admission
ATTACH;FMTTYPE=image/png:https://levittdayton.org/wp-content/uploads/2025/11/UpClose-Caresource.png
END:VEVENT
BEGIN:VEVENT
DTSTART;TZID=America/New_York:20251114T190000
DTEND;TZID=America/New_York:20251114T213000
DTSTAMP:20260425T073541
CREATED:20251001T140921Z
LAST-MODIFIED:20251030T142551Z
UID:10000415-1763146800-1763155800@levittdayton.org
SUMMARY:Levitt UpClose Presented by CareSource
DESCRIPTION:Uncover the mystery: Three artists\, one secret location… endless memories!\nJoin us on Friday\, November 14\, at 7pm for the next show in the Levitt UpClose concert series! Purchase a ticket for a unique concert-going experience to keep the Levitt Dayton energy going all year. We’ll give you a little information before you buy\, but here’s the fun part: we’ll let you know the exact location the day before the concert\, and you’ll find out the bands as you hear them at the show! \nTicket proceeds will support free concerts at the Levitt Pavilion Dayton next summer. \nLocation: 45402 zipcode \nAccessible building and ground floor venue. \nSeating will be available at the venue – no need to bring chairs. \nBYOB – bring your own coolers and snacks! \nLimited tickets available. Tickets – $45 \n 
URL:https://levittdayton.org/event/november-upclose-2025/
LOCATION:UpClose – Mystery Venue\, Dayton\, OH\, 45402\, United States
CATEGORIES:Ticketed Admission
ATTACH;FMTTYPE=image/png:https://levittdayton.org/wp-content/uploads/2024/09/UpClose-Social-2024-4.png
END:VEVENT
BEGIN:VEVENT
DTSTART;TZID=America/New_York:20251023T190000
DTEND;TZID=America/New_York:20251023T213000
DTSTAMP:20260425T073541
CREATED:20250903T195436Z
LAST-MODIFIED:20250909T135843Z
UID:10000412-1761246000-1761255000@levittdayton.org
SUMMARY:Levitt UpClose Presented by CareSource
DESCRIPTION:  \nUncover the mystery: Three artists\, one secret location… endless memories!\nJoin us on Thursday\, October 23\, at 7pm for the next show in the Levitt UpClose concert series! Purchase a ticket for a unique concert-going experience to keep the Levitt Dayton energy going all year. We’ll give you a little information before you buy\, but here’s the fun part: we’ll let you know the exact location the day before the concert\, and you’ll find out the bands as you hear them at the show!\nTicket proceeds will support free concerts at the Levitt Pavilion Dayton next summer. \nLocation: 45402 zipcode \nAccessible building and ground floor venue. \nSeating will be available at the venue – no need to bring chairs. \nBeverages will be available for purchase at this event. No outside coolers\, beverages\, or snacks are permitted. \nLimited tickets available. Tickets – $45 \n 
URL:https://levittdayton.org/event/october-23-levitt-upclose/
LOCATION:UpClose – Mystery Venue\, Dayton\, OH\, 45402\, United States
CATEGORIES:Ticketed Admission
ATTACH;FMTTYPE=image/png:https://levittdayton.org/wp-content/uploads/2024/09/UpClose-Social-2024-4.png
END:VEVENT
END:VCALENDAR